BEGIN:VCALENDAR
BEGIN:VEVENT
CLASS:PUBLIC
CREATED:20260421T091824
DESCRIPTION:Préparation du certificat « sauveteur secouriste du travail » (SST)

Réf Sylvan : MISST21-2024-3

Durée : 14 heures

Date :

 	jeudi 07 mars 2024
 	jeudi 14 mars 2024

Programme de la formation : MISST21

Cette formation vous intéresse et vous voulez nous contacter :

Utilisez notre fiche contact

Vous êtes assistant(e) maternel(le) et vous voulez vous inscrire à cette formation  :

Bulletin d\'inscription 2024 IPERIA
DTEND:20240314T170000
DTSTAMP:20260421T091824
DTSTART:20240314T090000
LAST-MODIFIED:20091109T101015Z
LOCATION:Salle du conseil municipal,  2 place Maurice Bédel, USSEAU, , 86230
SUMMARY;LANGUAGE=en-us:Stage  Préparation Du Certificat « Sauveteur Secouriste Du Travail » (SST)
BEGIN:VALARM
TRIGGER:-PT1440M
ACTION:DISPLAY
DESCRIPTION:Reminder
END:VALARM
END:VEVENT
END:VCALENDAR
