BEGIN:VCALENDAR
BEGIN:VEVENT
CLASS:PUBLIC
CREATED:20260423T184435
DESCRIPTION: 

Préparation du certificat &quot;sauveteur secouriste du travail&quot; (SST) dans le cadre de la prise en charge d&#039;un enfant

Réf IPERIA : MISST2017

Durée : 16 heures

Dates :

 	samedi 14 janvier 2017
 	samedi 28 janvier 2017

Programme de la formation : IPERIA - MISST

Cette formation vous intéresse et vous voulez nous contacter :

Utilisez notre fiche contact

Vous êtes assistant(e) maternel(le) et vous voulez vous inscrire à cette formation :

Bulletin d&#039;inscription IPERIA

Ce stage est organisé avec le Relais des Petites Canailles - Vouneuil sous Biard (Madame Cécile GUILLAUME)
DTEND:20170114T180000
DTSTAMP:20260423T184435
DTSTART:20170114T090000
LAST-MODIFIED:20091109T101015Z
LOCATION:Action Sauvetage, 57 rue de la Ganterie, Poitiers, , 86000
SUMMARY;LANGUAGE=en-us:Stage - Préparation du certificat SST- MISST - 1ère séance / 2
BEGIN:VALARM
TRIGGER:-PT1440M
ACTION:DISPLAY
DESCRIPTION:Reminder
END:VALARM
END:VEVENT
END:VCALENDAR
