BEGIN:VCALENDAR
BEGIN:VEVENT
CLASS:PUBLIC
CREATED:20260423T204332
DESCRIPTION: 

Préparation du certificat &quot;sauveteur secouriste du travail&quot; (SST) dans le cadre de la prise en charge d&#039;un enfant

Réf IPERIA : MISST2017

Durée : 16 heures

Dates :

 	samedi 19 novembre 2016
 	samedi 03 décembre 2016

Programme de la formation : IPERIA - MISST

Cette formation vous intéresse et vous voulez nous contacter :

Utilisez notre fiche contact

Vous êtes assistant(e) maternel(le) et vous voulez vous inscrire à cette formation :

Bulletin d&#039;inscription IPERIA

Ce stage est organisé avec le RAM Chat Perché - Les Roches Prémaries (Madame Cécile CAUSSE)
DTEND:20161203T180000
DTSTAMP:20260423T204332
DTSTART:20161203T090000
LAST-MODIFIED:20091109T101015Z
LOCATION:Action Sauvetage, 57 rue de la Ganterie, Poitiers, , 86000
SUMMARY;LANGUAGE=en-us:Stage - Préparation du certificat SST- MISST - 2e séance / 2
BEGIN:VALARM
TRIGGER:-PT1440M
ACTION:DISPLAY
DESCRIPTION:Reminder
END:VALARM
END:VEVENT
END:VCALENDAR
