BEGIN:VCALENDAR
BEGIN:VEVENT
CLASS:PUBLIC
CREATED:20260423T201949
DESCRIPTION:S&#039;initier à l&#039;informatique et à l&#039;internet

Réf IPERIA : MIIN

Durée : 20 heures

Lieu : Tonnay Charente

Dates :

 	samedi 22 octobre 2016
 	samedi 26 novembre 2016
 	samedi 03 décembre 2016

Programme de la formation : IPERIA - MIIN

Cette formation vous intéresse et vous voulez nous contacter :

Utilisez notre fiche contact

Vous êtes assistant(e) maternel(le) et vous voulez vous inscrire à cette formation :

Vous pouvez vous adresser à Willemijn Kalff - RAM Tonnay Charente - 05 46 87 56 29

Bulletin d&#039;inscription IPERIA
DTEND:20161203T130000
DTSTAMP:20260423T201949
DTSTART:20161203T090000
LAST-MODIFIED:20091109T101015Z
LOCATION:RAM Nos P&#039;tits Drôles, 42 rue de Fontsèche, TONNAY CHARENTE, , 17430
SUMMARY;LANGUAGE=en-us:Stage - Informatique et Internet - dernière séance / 3
BEGIN:VALARM
TRIGGER:-PT1440M
ACTION:DISPLAY
DESCRIPTION:Reminder
END:VALARM
END:VEVENT
END:VCALENDAR
