BEGIN:VCALENDAR
BEGIN:VEVENT
CLASS:PUBLIC
CREATED:20260424T102630
DESCRIPTION: 

S\'initier à l\'informatique et à l\'Internet

Réf IPERIA : MIIN2018

Durée : 21 heures

Dates :

 	samedi 20 mai 2021
 	samedi 21 mai 2021
 	samedi 22 mai 2021

Programme de la formation : IPERIA - S\'initier l\'informatique et l\'Internet

Cette formation vous intéresse et vous voulez nous contacter :

Utilisez notre fiche contact
DTEND:20210520T170000
DTSTAMP:20260424T102630
DTSTART:20210520T090000
LAST-MODIFIED:20091109T101015Z
LOCATION:Espace Sylvan, 60 Rue Albert 1er, LA ROCHELLE, , 17000
SUMMARY;LANGUAGE=en-us:Stage - S'initier à l'informatique et à l'internet- MIIN2018-1ère séance / 3
BEGIN:VALARM
TRIGGER:-PT1440M
ACTION:DISPLAY
DESCRIPTION:Reminder
END:VALARM
END:VEVENT
END:VCALENDAR
