BEGIN:VCALENDAR
BEGIN:VEVENT
CLASS:PUBLIC
CREATED:20260423T220933
DESCRIPTION: 

Contes et histoires à raconter

Réf IPERIA : MICH

Durée : 16 heures

Dates :

 	samedi 12 novembre 2016
 	samedi 17 décembre 2016

Programme de la formation : IPERIA - MICH

Cette formation vous intéresse et vous voulez nous contacter :

Utilisez notre fiche contact

Vous êtes assistant(e) maternel(le) et vous voulez vous inscrire à cette formation :

Bulletin d&#039;inscription IPERIA

Ce stage est animé par Bruno Benoist : Site de Bruno Benoist
DTEND:20161112T183000
DTSTAMP:20260423T220933
DTSTART:20161112T090000
LAST-MODIFIED:20091109T101015Z
LOCATION:Espace Sylvan, 60 Rue Albert 1er, La Rochelle, , 17000
SUMMARY;LANGUAGE=en-us:Stage - Contes et histoires à raconter- MICH - 1ère séance / 2
BEGIN:VALARM
TRIGGER:-PT1440M
ACTION:DISPLAY
DESCRIPTION:Reminder
END:VALARM
END:VEVENT
END:VCALENDAR
