BEGIN:VCALENDAR
BEGIN:VEVENT
CLASS:PUBLIC
CREATED:20260424T102804
DESCRIPTION: 

Parler avec un mot et un signe - Niveau 1

Réf IPERIA : MIPMS121

Durée : 21 heures

Dates :

 	samedi 29 mai 2021
 	samedi 12 juin 2021
 	samedi 19 juin 2021

Programme de la formation : IPERIA - Parler avec un mot et un signe

Cette formation vous intéresse et vous voulez nous contacter :

Utilisez notre fiche contact
DTEND:20210619T170000
DTSTAMP:20260424T102804
DTSTART:20210619T090000
LAST-MODIFIED:20091109T101015Z
LOCATION:IBIS Sud, 175 av du 8 mai 1945, POITIERS, , 86000
SUMMARY;LANGUAGE=en-us:Stage - Parler avec un mot et un signe-niveau 1- MIPMS121-2e séance / 3
BEGIN:VALARM
TRIGGER:-PT1440M
ACTION:DISPLAY
DESCRIPTION:Reminder
END:VALARM
END:VEVENT
END:VCALENDAR
