BEGIN:VCALENDAR
BEGIN:VEVENT
CLASS:PUBLIC
CREATED:20260424T084331
DESCRIPTION:Préparation du recyclage du certificat « sauveteur secouriste du travail » (SST) dans le cadre de la prise en charge d’enfant

Réf Sylvan : MIRSST2021-2

Financement : CPF (Tarif : 200 €)

Durée : 7 heures

Date :

 	samedi 20 mars 2021

Programme de la formation initiale : CPF - MIRSST2021

Cette formation vous intéresse et vous voulez nous contacter :

Utilisez notre fiche contact

Vous êtes assistant(e) maternel(le) et vous voulez vous inscrire à cette formation en mobilisant votre compte CPF :

Mobilisez votre compte CPF pour financer cette formation
DTEND:20210320T170000
DTSTAMP:20260424T084331
DTSTART:20210320T090000
LAST-MODIFIED:20091109T101015Z
LOCATION:IBIS Futuroscope, 4 avenue Thomas Edison, Chasseneuil du Poitou, , 86360
SUMMARY;LANGUAGE=en-us:Stage de recyclage « sauveteur secouriste du travail » (SST)
BEGIN:VALARM
TRIGGER:-PT1440M
ACTION:DISPLAY
DESCRIPTION:Reminder
END:VALARM
END:VEVENT
END:VCALENDAR
