BEGIN:VCALENDAR
BEGIN:VEVENT
CLASS:PUBLIC
CREATED:20260424T084906
DESCRIPTION:Préparation du certificat « sauveteur secouriste du travail » (SST) dans le cadre de la prise en charge d’enfant

Réf Sylvan : MISST2021-1

Financement : CPF (Tarif : 350 €)

Durée : 14 heures

Date :

 	jeudi 04 mars 2021
 	vendredi 05 mars 2021

Programme de la formation initiale : CPF - MISST2021

Cette formation vous intéresse et vous voulez nous contacter :

Utilisez notre fiche contact

Vous êtes assistant(e) maternel(le) et vous voulez vous inscrire à cette formation en mobilisant votre compte CPF :

Mobilisez votre compte CPF pour financer cette formation
DTEND:20210305T170000
DTSTAMP:20260424T084906
DTSTART:20210305T090000
LAST-MODIFIED:20091109T101015Z
LOCATION:IBIS Sud, 175 Avenue du 08 mai 1945, Poitiers, , 86000
SUMMARY;LANGUAGE=en-us:Stage « sauveteur secouriste du travail » (SST) - 2e journée
BEGIN:VALARM
TRIGGER:-PT1440M
ACTION:DISPLAY
DESCRIPTION:Reminder
END:VALARM
END:VEVENT
END:VCALENDAR
