BEGIN:VCALENDAR
BEGIN:VEVENT
CLASS:PUBLIC
CREATED:20260422T130823
DESCRIPTION:Comprendre les émotions pour mieux accompagner l\'enfant au quotidien

Réf IPERIA : MICE21

Durée : 14 heures

Dates :

 	samedi 13 mars 2021
 	samedi 27 mars 2021

Horaires : 9h-12h et 13h-17h

Référents de la formation :

Aurélian Bellou-Bousselaire - responsable pédagogique : 05 46 55 14 70

Programme de la formation : Comprendre les émotions...

Cette formation vous intéresse et vous voulez nous contacter :

Utilisez notre fiche contact

Vous êtes assistant(e) maternel(le) et vous voulez vous inscrire à cette formation :

Bulletin d\'inscription IPERIA
DTEND:20210313T170000
DTSTAMP:20260422T130823
DTSTART:20210313T090000
LAST-MODIFIED:20091109T101015Z
LOCATION:IBIS Sud, 175 av du 8 mai 1945, POITIERS, , 86000
SUMMARY;LANGUAGE=en-us:Comprendre les émotions... - MICE21-2021-1 - 1ère séance / 2
BEGIN:VALARM
TRIGGER:-PT1440M
ACTION:DISPLAY
DESCRIPTION:Reminder
END:VALARM
END:VEVENT
END:VCALENDAR
