BEGIN:VCALENDAR
BEGIN:VEVENT
CLASS:PUBLIC
CREATED:20260424T083839
DESCRIPTION:Accompagner et prévenir les situations difficiles avec l\'enfant ou sa famille

Réf IPERIA : MIPSSEF21

Durée : 21 heures

Dates :

 	vendredi 09 avril 2021
 	lundi 26 avril 2021
 	vendredi 07 mai 2021

Horaires : 9h-12h et 13h-17h

Référent de la formation : Aurélian Bellou-Bousselaire - responsable pédagogique : 05 46 55 14 70

Programme de la formation : Accompagner et prévenir les situations difficiles avec l\'enfant

Cette formation vous intéresse et vous voulez nous contacter :

Utilisez notre fiche contact

Vous êtes assistant(e) maternel(le) et vous voulez vous inscrire à cette formation :

Bulletin d\'inscription IPERIA
DTEND:20210426T170000
DTSTAMP:20260424T083839
DTSTART:20210426T090000
LAST-MODIFIED:20091109T101015Z
LOCATION:IBIS Sud, 175 av du 8 mai 1945, POITIERS, , 86000
SUMMARY;LANGUAGE=en-us:Accompagner et prévenir les situations difficiles avec l'enfant...-MIPSSEF-2e séance / 3
BEGIN:VALARM
TRIGGER:-PT1440M
ACTION:DISPLAY
DESCRIPTION:Reminder
END:VALARM
END:VEVENT
END:VCALENDAR
