BEGIN:VCALENDAR
BEGIN:VEVENT
CLASS:PUBLIC
CREATED:20260423T204333
DESCRIPTION: 

Prendre soin de soi pour prendre soin des autres

Réf IPERIA : MIPSS

Durée : 16 heures

Dates :

 	samedi 19 novembre 2016
 	samedi 03 décembre 2016

Programme de la formation : IPERIA - MIPSS

Cette formation vous intéresse et vous voulez nous contacter :

Utilisez notre fiche contact

Vous êtes assistant(e) maternel(le) et vous voulez vous inscrire à cette formation :

Bulletin d&#039;inscription IPERIA
DTEND:20161119T180000
DTSTAMP:20260423T204333
DTSTART:20161119T090000
LAST-MODIFIED:20091109T101015Z
LOCATION:RAM Valfrimousse, Avenue Girault, Jaunay-Clan, , 86130
SUMMARY;LANGUAGE=en-us:Stage - Prendre soin de soi... MIPSS - 1ère séance / 2
BEGIN:VALARM
TRIGGER:-PT1440M
ACTION:DISPLAY
DESCRIPTION:Reminder
END:VALARM
END:VEVENT
END:VCALENDAR
