BEGIN:VCALENDAR
BEGIN:VEVENT
CLASS:PUBLIC
CREATED:20260419T135518
DESCRIPTION:Gérer les situations difficiles

Réf IPERIA : MIGSD2018

Durée : 14 heures

Dates :

 	samedi 05 septembre 2020
 	samedi 19 septembre 2020

Horaires : 9h-12h et 13h-17h

Référent de la formation : Aurélian Bellou-Bousselaire - responsable pédagogique : 05 46 55 14 70

Programme de la formation : Gérer les situations difficiles

Cette formation vous intéresse et vous voulez nous contacter :

Utilisez notre fiche contact

Vous êtes assistant(e) maternel(le) et vous voulez vous inscrire à cette formation :

Bulletin d\'inscription IPERIA
DTEND:20200919T170000
DTSTAMP:20260419T135518
DTSTART:20200919T090000
LAST-MODIFIED:20091109T101015Z
LOCATION:salle municipale, Rue des école, AIGREFEUILLE D AUNIS ( 17290 ), , 17290
SUMMARY;LANGUAGE=en-us:Gérer les situations difficiles-MIGSD2020-2-2e séance / 2
BEGIN:VALARM
TRIGGER:-PT1440M
ACTION:DISPLAY
DESCRIPTION:Reminder
END:VALARM
END:VEVENT
END:VCALENDAR
