BEGIN:VCALENDAR
BEGIN:VEVENT
CLASS:PUBLIC
CREATED:20260419T140424
DESCRIPTION:Accompagnement de l\'enfant dans les activités sociales et de loisirs

Réf IPERIA : MIBC20M2 - Téléformation COVID19

Cette formation peut être intégrée dans le bloc 20 : Adapter ses pratiques à l’accompagnement de l’enfant dans une situation de handicap dans les activités de la vie quotidienne

Durée : 21 heures

Dates :

 	samedi 04 juillet 2020
 	samedi 19 septembre 2020
 	samedi 26 septembre 2020

Horaires : 9h-12h et 13h-17h

Référent de la formation : Aurélian Bellou-Bousselaire - responsable pédagogique : 05 46 55 14 70

Programme de la formation : IPERIA - MIBC20M2

Cette formation vous intéresse et vous voulez nous contacter :

Utilisez notre fiche contact

Vous êtes assistant(e) maternel(le) et vous voulez vous inscrire à cette formation :

Bulletin d\'inscription IPERIA
DTEND:20200919T170000
DTSTAMP:20260419T140424
DTSTART:20200919T090000
LAST-MODIFIED:20091109T101015Z
LOCATION:En téléformation - cause COVID19, , , , 
SUMMARY;LANGUAGE=en-us:Accompagnement de l'enfant dans les activités sociales et de loisirs-MIBC20M2-2e séance/3
BEGIN:VALARM
TRIGGER:-PT1440M
ACTION:DISPLAY
DESCRIPTION:Reminder
END:VALARM
END:VEVENT
END:VCALENDAR
