BEGIN:VCALENDAR
BEGIN:VEVENT
CLASS:PUBLIC
CREATED:20260419T135716
DESCRIPTION:L\'apprentissage de la langue des signes française

Réf IPERIA : MILDS2018 - Téléformation COVID19

Durée : 35 heures

Dates :

 	samedi 27 juin 2020
 	samedi 04 juillet 2020
 	 samedi 05 septembre 2020
 	 samedi 19 septembre 2020
 	 samedi 03 octobre 2020

Horaires : 9h-12h et 13h-17h

Référent de la formation : Aurélian Bellou-Bousselaire - responsable pédagogique : 05 46 55 14 70

Programme de la formation : IPERIA - MILDS2018

Cette formation vous intéresse et vous voulez nous contacter :

Utilisez notre fiche contact

Vous êtes assistant(e) maternel(le) et vous voulez vous inscrire à cette formation :

Bulletin d\'inscription IPERIA
DTEND:20200919T170000
DTSTAMP:20260419T135716
DTSTART:20200919T090000
LAST-MODIFIED:20091109T101015Z
LOCATION:En téléformation - cause COVID19, , , , 
SUMMARY;LANGUAGE=en-us:L'apprentissage de la langue des signes française-MILDS2020-5-4e séance / 5
BEGIN:VALARM
TRIGGER:-PT1440M
ACTION:DISPLAY
DESCRIPTION:Reminder
END:VALARM
END:VEVENT
END:VCALENDAR
