BEGIN:VCALENDAR
BEGIN:VEVENT
CLASS:PUBLIC
CREATED:20260419T154518
DESCRIPTION:Parler avec un mot et un signe

Réf IPERIA : MIPMS19

Durée : 21 heures en téléformation

Dates :

 	samedi 20 juin 2020
 	samedi 27 juin 2020
 	samedi 04 juillet 2020

Horaires : 9h-12h et 13h-17h

Référents de la formation :

Aurélian Bellou-Bousselaire - responsable pédagogique : 05 46 55 14 70

Programme de la formation : Parler avec un mot et un signe

Cette formation vous intéresse et vous voulez nous contacter :

Utilisez notre fiche contact

Vous êtes assistant(e) maternel(le) et vous voulez vous inscrire à cette formation :

Bulletin d\'inscription IPERIA
DTEND:20200704T170000
DTSTAMP:20260419T154518
DTSTART:20200704T090000
LAST-MODIFIED:20091109T101015Z
LOCATION:En téléformation - cause COVID19, , , , 
SUMMARY;LANGUAGE=en-us:Parler avec un mot et un signe - MIPMS2019- 3e séance / 3 - Téléformation
BEGIN:VALARM
TRIGGER:-PT1440M
ACTION:DISPLAY
DESCRIPTION:Reminder
END:VALARM
END:VEVENT
END:VCALENDAR
