BEGIN:VCALENDAR
BEGIN:VEVENT
CLASS:PUBLIC
CREATED:20260419T173307
DESCRIPTION:L\'apprentissage de la langue des signes française

Réf IPERIA : MILDS2018 - en téléformation COVID 19

Durée : 35 heures

Dates :

 	lundi 27 avril 2020
 	mercredi 29 avril 2020
 	 lundi 04 mai 2020
 	 mercredi 06 mai 2020
 	 jeudi 07 mai 2020

Horaires : 9h-12h et 13h-17h

Référent de la formation : Aurélian Bellou-Bousselaire - responsable pédagogique : 05 46 55 14 70

Programme de la formation : IPERIA - MILDS2018

Cette formation vous intéresse et vous voulez nous contacter :

Utilisez notre fiche contact

Vous êtes assistant(e) maternel(le) et vous voulez vous inscrire à cette formation :

Bulletin d\'inscription IPERIA
DTEND:20200507T170000
DTSTAMP:20260419T173307
DTSTART:20200507T090000
LAST-MODIFIED:20091109T101015Z
LOCATION:Espace Sylvan en FOAD, 60 Rue Albert 1er, La Rochelle, , 17000
SUMMARY;LANGUAGE=en-us:L'apprentissage de la langue des signes française-MILDS2020-2-5e séance / 5
BEGIN:VALARM
TRIGGER:-PT1440M
ACTION:DISPLAY
DESCRIPTION:Reminder
END:VALARM
END:VEVENT
END:VCALENDAR
