BEGIN:VCALENDAR
BEGIN:VEVENT
CLASS:PUBLIC
CREATED:20260419T210353
DESCRIPTION:Parler avec un mot et un signe

Réf IPERIA : MIPMS19

Durée : 21 heures

Dates :

 	jeudi 16 avril 2020
 	vendredi 17 avril 2020
 	lundi 20 avril 2020
 	mardi 21 avril 2020

Horaires : 9h-12h et 13h-17h

Référents de la formation :

Aurélian Bellou-Bousselaire - responsable pédagogique : 05 46 55 14 70

Programme de la formation : Parler avec un mot et un signe

Cette formation qui va se réaliser en téléformation (COVID19) vous intéresse et vous voulez nous contacter :

Utilisez notre fiche contact

Vous êtes assistant(e) maternel(le) et vous voulez vous inscrire à cette formation :

Bulletin d\'inscription IPERIA
DTEND:20200417T170000
DTSTAMP:20260419T210353
DTSTART:20200417T090000
LAST-MODIFIED:20091109T101015Z
LOCATION:en téléformation, 60 Rue Albert 1er, La Rochelle, , 17000
SUMMARY;LANGUAGE=en-us:Parler avec un mot et un signe - MIPMS2019- 2e séance / 4-Téléformation
BEGIN:VALARM
TRIGGER:-PT1440M
ACTION:DISPLAY
DESCRIPTION:Reminder
END:VALARM
END:VEVENT
END:VCALENDAR
