BEGIN:VCALENDAR
BEGIN:VEVENT
CLASS:PUBLIC
CREATED:20260419T170414
DESCRIPTION:Comprendre et mieux accompagner les nouvelles connaissances sur le développement du cerveau

Réf IPERIA : MICDC19 - En téléformation - cause COVID19

Durée : 14 heures

Dates :

 	samedi 16 mai 2020
 	samedi 27 juin 2020

Horaires : 9h-12h et 13h-17h

Référents de la formation :

Aurélian Bellou-Bousselaire - responsable pédagogique : 05 46 55 14 70

Programme de la formation : Développement du cerveau

Cette formation vous intéresse et vous voulez nous contacter :

Utilisez notre fiche contact

Vous êtes assistant(e) maternel(le) et vous voulez vous inscrire à cette formation :

Bulletin d\'inscription IPERIA
DTEND:20200516T170000
DTSTAMP:20260419T170414
DTSTART:20200516T090000
LAST-MODIFIED:20091109T101015Z
LOCATION:En téléformation - cause COVID19, , , , 
SUMMARY;LANGUAGE=en-us:Développement du cerveau - MICDC19 - 1ère séance / 2
BEGIN:VALARM
TRIGGER:-PT1440M
ACTION:DISPLAY
DESCRIPTION:Reminder
END:VALARM
END:VEVENT
END:VCALENDAR
