BEGIN:VCALENDAR
BEGIN:VEVENT
CLASS:PUBLIC
CREATED:20260423T204221
DESCRIPTION:S&#039;initier à l&#039;informatique et à l&#039;internet - GROUPE 1

Réf IPERIA : MIIN

Durée : 20 heures

Lieu : Poitiers

Dates :

 	samedi 01 octobre 2016
 	samedi 05 novembre 2016
 	samedi 19 novembre 2016

Programme de la formation : IPERIA - MIIN

Cette formation vous intéresse et vous voulez nous contacter :

Utilisez notre fiche contact

Vous êtes assistant(e) maternel(le) et vous voulez vous inscrire à cette formation :

Bulletin d&#039;inscription IPERIA
DTEND:20161105T180000
DTSTAMP:20260423T204221
DTSTART:20161105T090000
LAST-MODIFIED:20091109T101015Z
LOCATION:Club Informatique de Saint-Benoît - Salle Maxime Dumoulin ,  52 route de Poitiers , Saint-Benoît, , 86280 
SUMMARY;LANGUAGE=en-us:Stage - Informatique et Internet - 2e séance / 3
BEGIN:VALARM
TRIGGER:-PT1440M
ACTION:DISPLAY
DESCRIPTION:Reminder
END:VALARM
END:VEVENT
END:VCALENDAR
