BEGIN:VCALENDAR
BEGIN:VEVENT
CLASS:PUBLIC
CREATED:20260419T205223
DESCRIPTION:Préparation du certificat « sauveteur secouriste du travail » (SST) dans le cadre de la prise en charge d’enfant

Réf IPERIA : MISST2018

Durée : 14 heures

Date :

 	jeudi 09 janvier 2020
 	vendredi 10 janvier 2020

Programme de la formation initiale : IPERIA - MISST2018

Cette formation vous intéresse et vous voulez nous contacter :

Utilisez notre fiche contact

Vous êtes assistant(e) maternel(le) et vous voulez vous inscrire à cette formation :

Bulletin d\'inscription IPERIA
DTEND:20200110T170000
DTSTAMP:20260419T205223
DTSTART:20200110T090000
LAST-MODIFIED:20091109T101015Z
LOCATION:Maison des services, 5 Chemins de Pradilles, La Villedieu du Clain, , 86340
SUMMARY;LANGUAGE=en-us:Stage « sauveteur secouriste du travail » (SST) - 2e journée
BEGIN:VALARM
TRIGGER:-PT1440M
ACTION:DISPLAY
DESCRIPTION:Reminder
END:VALARM
END:VEVENT
END:VCALENDAR
