BEGIN:VCALENDAR
BEGIN:VEVENT
CLASS:PUBLIC
CREATED:20260419T210553
DESCRIPTION:Préparation du certificat « sauveteur secouriste du travail » (SST) dans le cadre de la prise en charge d’enfant

Réf Sylvan : MISST2019-14

Financement : CPF (Tarif : 350 €)

Durée : 14 heures

Date :

 	samedi 11 janvier 2020
 	samedi 25 janvier 2020

Programme de la formation initiale : CPF - MISST2020

Cette formation vous intéresse et vous voulez nous contacter :

Utilisez notre fiche contact

Vous êtes assistant(e) maternel(le) et vous voulez vous inscrire à cette formation en mobilisant votre compte CPF :

Mobilisez votre compte CPF pour financer cette formation
DTEND:20200111T170000
DTSTAMP:20260419T210553
DTSTART:20200111T090000
LAST-MODIFIED:20091109T101015Z
LOCATION:Maison des services, 5 chemin des Pradilles, Villedieu du clain, , 86340
SUMMARY;LANGUAGE=en-us:Stage « sauveteur secouriste du travail » (SST) - 1ère journée
BEGIN:VALARM
TRIGGER:-PT1440M
ACTION:DISPLAY
DESCRIPTION:Reminder
END:VALARM
END:VEVENT
END:VCALENDAR
