BEGIN:VCALENDAR
BEGIN:VEVENT
CLASS:PUBLIC
CREATED:20260419T205508
DESCRIPTION:Gestion du stress et relaxation

Réf IPERIA : MISR2018

Durée : 14 heures

Dates :

 	vendredi 07 février 2020
 	lundi 10 février 2020

Horaires : 9h-12h et 13h-17h

Référent de la formation : Aurélian Bellou-Bousselaire - responsable pédagogique : 05 46 55 14 70

Programme de la formation : Gestion du stress et relaxation

Cette formation vous intéresse et vous voulez nous contacter :

Utilisez notre fiche contact

Vous êtes assistant(e) maternel(le) et vous voulez vous inscrire à cette formation :

Bulletin d\'inscription IPERIA
DTEND:20200210T170000
DTSTAMP:20260419T205508
DTSTART:20200210T090000
LAST-MODIFIED:20091109T101015Z
LOCATION:Maison des Services, 5 chemin des pradilles, La Villeudieu du Clain, , 86340
SUMMARY;LANGUAGE=en-us:Gestion du stress et relaxation - MISR2018- 2e séance / 2
BEGIN:VALARM
TRIGGER:-PT1440M
ACTION:DISPLAY
DESCRIPTION:Reminder
END:VALARM
END:VEVENT
END:VCALENDAR
