BEGIN:VCALENDAR
BEGIN:VEVENT
CLASS:PUBLIC
CREATED:20260419T205329
DESCRIPTION:Préparation du certificat « sauveteur secouriste du travail » (SST) dans le cadre de la prise en charge d’enfant

Réf IPERIA : MISST2018

Durée : 14 heures

Date :

 	samedi 23 novembre 2019
 	samedi 11 janvier 2020

Programme de la formation initiale : IPERIA - MISST2018

Cette formation vous intéresse et vous voulez nous contacter :

Utilisez notre fiche contact

Vous êtes assistant(e) maternel(le) et vous voulez vous inscrire à cette formation :

Bulletin d\'inscription IPERIA
DTEND:20200111T170000
DTSTAMP:20260419T205329
DTSTART:20200111T090000
LAST-MODIFIED:20091109T101015Z
LOCATION:RAM , 105 Rue du stade, Saint Georges du Bois, , 17700
SUMMARY;LANGUAGE=en-us:Stage « sauveteur secouriste du travail » (SST) - 2e journée
BEGIN:VALARM
TRIGGER:-PT1440M
ACTION:DISPLAY
DESCRIPTION:Reminder
END:VALARM
END:VEVENT
END:VCALENDAR
