BEGIN:VCALENDAR
BEGIN:VEVENT
CLASS:PUBLIC
CREATED:20260419T205122
DESCRIPTION: 

Préparation du recyclage du \"sauveteur secouriste du travail\" (SST)

Réf IPERIA : MIRSST2018

Durée : 7 heures

Date :

 	samedi 18 janvier 2020

Programme de la formation initiale : IPERIA - MISST2018

Cette formation vous intéresse et vous voulez nous contacter :

Utilisez notre fiche contact

Vous êtes assistant(e) maternel(le) et vous voulez vous inscrire à cette formation :

Bulletin d\'inscription IPERIA
DTEND:20200118T170000
DTSTAMP:20260419T205122
DTSTART:20200118T090000
LAST-MODIFIED:20091109T101015Z
LOCATION:Association les P'tits Bouchons-Salle les 1000 Clubs, Rue de la piscine, Pons, , 17800
SUMMARY;LANGUAGE=en-us:Stage - Recyclage - SST
BEGIN:VALARM
TRIGGER:-PT1440M
ACTION:DISPLAY
DESCRIPTION:Reminder
END:VALARM
END:VEVENT
END:VCALENDAR
