BEGIN:VCALENDAR
BEGIN:VEVENT
CLASS:PUBLIC
CREATED:20260419T223146
DESCRIPTION:Préparation du certificat « Acteur Prévention Secours » (APS) - Aides et soins à domicile

Réf IPERIA : MIAPS2018

Durée : 21 heures

Date :

 	samedi 16 novembre 2019
 	samedi 23 novembre 2019
 	samedi 07 décembre 2019

Programme de la formation initiale : IPERIA - MIAPS2018

Cette formation vous intéresse et vous voulez nous contacter :

Utilisez notre fiche contact

Vous êtes assistant(e) maternel(le) et vous voulez vous inscrire à cette formation :

Bulletin d\'inscription IPERIA
DTEND:20191207T170000
DTSTAMP:20260419T223146
DTSTART:20191207T090000
LAST-MODIFIED:20091109T101015Z
LOCATION:RAM  Chat Perché, 1 Parc Hubert, Lezay, , 79120
SUMMARY;LANGUAGE=en-us:Stage « Acteur Prévention Secours » (APS) - 3e journée /3
BEGIN:VALARM
TRIGGER:-PT1440M
ACTION:DISPLAY
DESCRIPTION:Reminder
END:VALARM
END:VEVENT
END:VCALENDAR
