BEGIN:VCALENDAR
BEGIN:VEVENT
CLASS:PUBLIC
CREATED:20260420T023114
DESCRIPTION:Toute l\'équipe Sylvan vous souhaite de bonnes vacances

et sera heureuse de vous retrouver à la rentrée pour de nouvelles formations....:)
DTEND:20190818T234500
DTSTAMP:20260420T023114
DTSTART:20190711T070000
LAST-MODIFIED:20091109T101015Z
LOCATION:Sylvan La Rochelle, 60 Rue Albert 1er, La Rochelle, , 17000
SUMMARY;LANGUAGE=en-us:Bonnes vacances
BEGIN:VALARM
TRIGGER:-PT1440M
ACTION:DISPLAY
DESCRIPTION:Reminder
END:VALARM
END:VEVENT
END:VCALENDAR
