BEGIN:VCALENDAR
BEGIN:VEVENT
CLASS:PUBLIC
CREATED:20260419T230413
DESCRIPTION:Comprendre et mieux accompagner les nouvelles connaissances sur le développement du cerveau

Réf IPERIA : MICDC19

Durée : 14 heures

Dates :

 	mardi 26 novembre 2019
 	mardi 28 janvier 2020

Horaires : 9h-12h et 13h-17h

Référents de la formation :

Aurélian Bellou-Bousselaire - responsable pédagogique : 05 46 55 14 70

Programme de la formation : Développement du cerveau

Cette formation vous intéresse et vous voulez nous contacter :

Utilisez notre fiche contact

Vous êtes assistant(e) maternel(le) et vous voulez vous inscrire à cette formation :

Bulletin d\'inscription IPERIA
DTEND:20191126T170000
DTSTAMP:20260419T230413
DTSTART:20191126T090000
LAST-MODIFIED:20091109T101015Z
LOCATION:Hôtel IBIS Style, 84 Avenue d'Angoulème, Chateaubernard, , 16100
SUMMARY;LANGUAGE=en-us:Développement du cerveau - MICDC19 - 1ère séance / 2
BEGIN:VALARM
TRIGGER:-PT1440M
ACTION:DISPLAY
DESCRIPTION:Reminder
END:VALARM
END:VEVENT
END:VCALENDAR
