BEGIN:VCALENDAR
BEGIN:VEVENT
CLASS:PUBLIC
CREATED:20260420T002528
DESCRIPTION:Gérer les situations difficiles

Réf IPERIA : MIGSD2018

Durée : 14 heures

Dates :

 	samedi 07 septembre 2019
 	samedi 12 octobre 2019

Horaires : 9h-12h et 13h-17h

Référent de la formation : Aurélian Bellou-Bousselaire - responsable pédagogique : 05 46 55 14 70

Programme de la formation : Gérer les situations difficiles

Cette formation vous intéresse et vous voulez nous contacter :

Utilisez notre fiche contact

Vous êtes assistant(e) maternel(le) et vous voulez vous inscrire à cette formation :

Bulletin d\'inscription IPERIA
DTEND:20191012T170000
DTSTAMP:20260420T002528
DTSTART:20191012T090000
LAST-MODIFIED:20091109T101015Z
LOCATION:RPE, 1 rue du Prieuré, Saint Gelais, , 79410
SUMMARY;LANGUAGE=en-us:Gérer les situations difficiles-MIGSD2018-2e séance / 2
BEGIN:VALARM
TRIGGER:-PT1440M
ACTION:DISPLAY
DESCRIPTION:Reminder
END:VALARM
END:VEVENT
END:VCALENDAR
