BEGIN:VCALENDAR
BEGIN:VEVENT
CLASS:PUBLIC
CREATED:20260419T230202
DESCRIPTION:Préparation du certificat « sauveteur secouriste du travail » (SST) dans le cadre de la prise en charge d’enfant

Réf IPERIA : MISST2018

Durée : 14 heures

Date :

 	lundi 04 novembre 2019
 	lundi 18 novembre 2019

Programme de la formation initiale : IPERIA - MISST2018

Cette formation vous intéresse et vous voulez nous contacter :

Utilisez notre fiche contact

Vous êtes assistant(e) maternel(le) et vous voulez vous inscrire à cette formation :

Bulletin d\'inscription IPERIA
DTEND:20191118T170000
DTSTAMP:20260419T230202
DTSTART:20191118T090000
LAST-MODIFIED:20091109T101015Z
LOCATION:RAM , 5 rue du Sergent Soubet, Roullet Saint Estèphe, , 16440
SUMMARY;LANGUAGE=en-us:Stage « sauveteur secouriste du travail » (SST) - 2e journée
BEGIN:VALARM
TRIGGER:-PT1440M
ACTION:DISPLAY
DESCRIPTION:Reminder
END:VALARM
END:VEVENT
END:VCALENDAR
