BEGIN:VCALENDAR
BEGIN:VEVENT
CLASS:PUBLIC
CREATED:20260419T223146
DESCRIPTION: 

L\'apprentissage de la langue des signes française

Réf IPERIA : MILDS2018

Durée : 35 heures

Dates :

 	lundi 30 septembre 2019
 	lundi 07 octobre 2019
 	lundi 14 octobre 2019
 	lundi 25 novembre 2019
 	lundi 09 décembre 2019

Horaires : 9h-12h et 13h-17h

Référent de la formation : Denis PENNEC : 05 46 55 14 70

Vous êtes assistant(e) maternel(le) et vous voulez vous inscrire à  cette formation :

Bulletin d\'inscription IPERIA

Programme de la formation : IPERIA - MILDS2018

Cette formation vous intéresse et vous voulez nous contacter :

Utilisez notre fiche contact
DTEND:20191125T170000
DTSTAMP:20260419T223146
DTSTART:20191125T090000
LAST-MODIFIED:20091109T101015Z
LOCATION:RAM , 5 Rue du Sergent Sourbet, Roullet Saint-Estèphe, , 16440
SUMMARY;LANGUAGE=en-us:L'apprentissage de la langue des signes française - 4e séance / 5
BEGIN:VALARM
TRIGGER:-PT1440M
ACTION:DISPLAY
DESCRIPTION:Reminder
END:VALARM
END:VEVENT
END:VCALENDAR
