BEGIN:VCALENDAR
BEGIN:VEVENT
CLASS:PUBLIC
CREATED:20260420T023114
DESCRIPTION:Parler avec un mot et un signe

Réf IPERIA : MIPMS19

Durée : 21 heures

Dates :

 	samedi 31 août 2019
 	samedi 12 octobre 2019
 	samedi 19 octobre 2019

Horaires : 9h-12h et 13h-17h

Référents de la formation :

Aurélian Bellou-Bousselaire - responsable pédagogique : 05 46 55 14 70

Programme de la formation : Parler avec un mot et un signe

Cette formation vous intéresse et vous voulez nous contacter :

Utilisez notre fiche contact

Vous êtes assistant(e) maternel(le) et vous voulez vous inscrire à cette formation :

Bulletin d\'inscription IPERIA
DTEND:20190831T170000
DTSTAMP:20260420T023114
DTSTART:20190831T090000
LAST-MODIFIED:20091109T101015Z
LOCATION:RAM - Les Petits papillons, 5 route du Sergent Sourbé, Roullet Saint Estèphe, , 16440
SUMMARY;LANGUAGE=en-us:Parler avec un mot et un signe - MIPMS2019- 1ère séance / 3
BEGIN:VALARM
TRIGGER:-PT1440M
ACTION:DISPLAY
DESCRIPTION:Reminder
END:VALARM
END:VEVENT
END:VCALENDAR
