BEGIN:VCALENDAR
BEGIN:VEVENT
CLASS:PUBLIC
CREATED:20260420T003351
DESCRIPTION:S\'occuper d\'un enfant en situation de handicap

Réf IPERIA : MIEH2018

Durée : 21 heures

Dates :

 	samedi 14 septembre 2019
 	samedi 28 septembre 2019
 	samedi 12 octobre 2019

Horaires : 9h-12 13h-17h

Référent de la formation : Denis Pennec - 05 46 55 14 70

Programme de la formation : IPERIA - MIEH2018

Ce stage animé par Claire Pironnet - référente handicap dans la Vienne

Cette formation vous intéresse et vous voulez nous contacter :

Utilisez notre fiche contact

Vous êtes assistant(e) maternel(le) et vous voulez vous inscrire à cette formation :

Bulletin d\'inscription IPERIA
DTEND:20191012T170000
DTSTAMP:20260420T003351
DTSTART:20191012T090000
LAST-MODIFIED:20091109T101015Z
LOCATION:IBIS Beaulieu, 1 rue du Bois Dousset, Poitiers, , 86000
SUMMARY;LANGUAGE=en-us:S'occuper d'un enfant en situation de handicap-3e séance / 3
BEGIN:VALARM
TRIGGER:-PT1440M
ACTION:DISPLAY
DESCRIPTION:Reminder
END:VALARM
END:VEVENT
END:VCALENDAR
