BEGIN:VCALENDAR
BEGIN:VEVENT
CLASS:PUBLIC
CREATED:20260419T205508
DESCRIPTION:Parler avec un mot et un signe

Réf IPERIA : MIPMS2019

Durée : 21 heures

Dates :

 	samedi 23 novembre 2019
 	samedi 07 décembre 2019
 	samedi 11 janvier 2020

Horaires : 9h-12h et 13h-17h

Référent de la formation : Aurélian Bellou-Bousselaire - responsable pédagogique : 05 46 55 14 70

Programme de la formation : Parler avec un mot et un signe

Cette formation vous intéresse et vous voulez nous contacter :

Utilisez notre fiche contact

Vous êtes assistant(e) maternel(le) et vous voulez vous inscrire à cette formation :

Bulletin d\'inscription IPERIA
DTEND:20200111T170000
DTSTAMP:20260419T205508
DTSTART:20200111T090000
LAST-MODIFIED:20091109T101015Z
LOCATION:Hôtel IBIS centre, 15 rue du petit Bonneveau, Poitiers, , 86000
SUMMARY;LANGUAGE=en-us:Parler avec un mot et un signe - MIPMS2019- 3e séance / 3
BEGIN:VALARM
TRIGGER:-PT1440M
ACTION:DISPLAY
DESCRIPTION:Reminder
END:VALARM
END:VEVENT
END:VCALENDAR
