BEGIN:VCALENDAR
BEGIN:VEVENT
CLASS:PUBLIC
CREATED:20260424T121008
DESCRIPTION:Préparation du certificat « sauveteur secouriste du travail » (SST) dans le cadre de la prise en charge d’enfant

Réf IPERIA : MISST2018

Durée : 14 heures

Date :

 	samedi 22 juin 2019
 	samedi 29 juin 2019

Programme de la formation initiale : IPERIA - MISST2018

Cette formation vous intéresse et vous voulez nous contacter :

Utilisez notre fiche contact

Vous êtes assistant(e) maternel(le) et vous voulez vous inscrire à cette formation :

Bulletin d\'inscription IPERIA
DTEND:20190629T170000
DTSTAMP:20260424T121008
DTSTART:20190629T090000
LAST-MODIFIED:20091109T101015Z
LOCATION:RAM, rue Calmette, L'ISLE D'ESPAGNAC, , 16340
SUMMARY;LANGUAGE=en-us:Stage « sauveteur secouriste du travail » (SST)
BEGIN:VALARM
TRIGGER:-PT1440M
ACTION:DISPLAY
DESCRIPTION:Reminder
END:VALARM
END:VEVENT
END:VCALENDAR
