BEGIN:VCALENDAR
BEGIN:VEVENT
CLASS:PUBLIC
CREATED:20260422T164431
DESCRIPTION: 

Prendre soin de soi pour prendre soin des autres

Réf IPERIA : MIPSS2018

Durée : 14 heures

Dates :

 	samedi 18 mai 2019
 	samedi 25 mai 2019

Programme de la formation : IPERIA - MIPSS

Cette formation vous intéresse et vous voulez nous contacter :

Utilisez notre fiche contact

Vous êtes assistant(e) maternel(le) et vous voulez vous inscrire à cette formation :

Bulletin d\'inscription IPERIA
DTEND:20190525T170000
DTSTAMP:20260422T164431
DTSTART:20190525T090000
LAST-MODIFIED:20091109T101015Z
LOCATION:RAM, 42 rue nationale, Roullet Saint Estèphe, , 16440
SUMMARY;LANGUAGE=en-us:Stage - Prendre soin de soi... MIPSS - 2e séance / 2
BEGIN:VALARM
TRIGGER:-PT1440M
ACTION:DISPLAY
DESCRIPTION:Reminder
END:VALARM
END:VEVENT
END:VCALENDAR
