BEGIN:VCALENDAR
BEGIN:VEVENT
CLASS:PUBLIC
CREATED:20260423T222127
DESCRIPTION: 

Développeur Intégrateur Web

Durée : 45 heures

 

Dates :

 	du lundi 22 août 2016
 	au lundi 24 octobre 2016

Programme de la formation : Développeur Intégrateur Web

Cette formation vous intéresse et vous voulez nous contacter :

Utilisez notre fiche contact
DTEND:20160919T180000
DTSTAMP:20260423T222127
DTSTART:20160919T140000
LAST-MODIFIED:20091109T101015Z
LOCATION:Espace Sylvan, 60 rue Albert 1er, La Rochelle, , 17000
SUMMARY;LANGUAGE=en-us:Formation - Développeur intégrateur Web - 5e séance / 10
BEGIN:VALARM
TRIGGER:-PT1440M
ACTION:DISPLAY
DESCRIPTION:Reminder
END:VALARM
END:VEVENT
END:VCALENDAR
