BEGIN:VCALENDAR
BEGIN:VEVENT
CLASS:PUBLIC
CREATED:20260424T122327
DESCRIPTION:Préparation du certificat « sauveteur secouriste du travail » (SST) dans le cadre de la prise en charge d’enfant

Réf IPERIA : MISST2018

Durée : 14 heures

Date :

 	samedi 15 juin 2019
 	samedi 22 juin 2019

Programme de la formation initiale : IPERIA - MISST2018

Cette formation vous intéresse et vous voulez nous contacter :

Utilisez notre fiche contact

Vous êtes assistant(e) maternel(le) et vous voulez vous inscrire à cette formation :

Bulletin d\'inscription IPERIA
DTEND:20190615T170000
DTSTAMP:20260424T122327
DTSTART:20190615T090000
LAST-MODIFIED:20091109T101015Z
LOCATION:Hotel Champlain, 30 Rue Rambaud, La Rochelle, , 17000
SUMMARY;LANGUAGE=en-us:Stage « sauveteur secouriste du travail » (SST)
BEGIN:VALARM
TRIGGER:-PT1440M
ACTION:DISPLAY
DESCRIPTION:Reminder
END:VALARM
END:VEVENT
END:VCALENDAR
