BEGIN:VCALENDAR
BEGIN:VEVENT
CLASS:PUBLIC
CREATED:20260420T002504
DESCRIPTION: 

L\'apprentissage de la langue des signes française

Réf IPERIA : MILDS2018

Durée : 35 heures

Dates :

 	samedi 14 septembre 2019
 	samedi 21 septembre 2019
 	samedi 12 octobre 2019
 	samedi 16 novembre 2019
 	samedi 30 novembre 2019

Horaires : 9h-12h et 13h-17h

Référent de la formation : Denis PENNEC : 05 46 55 14 70

Vous êtes assistant(e) maternel(le) et vous voulez vous inscrire à  cette formation :

Bulletin d\'inscription IPERIA

Programme de la formation : IPERIA - MILDS2018

Cette formation vous intéresse et vous voulez nous contacter :

Utilisez notre fiche contact
DTEND:20190921T170000
DTSTAMP:20260420T002504
DTSTART:20190921T090000
LAST-MODIFIED:20091109T101015Z
LOCATION:IBIS Futuroscope, 2 Avenue Thomas Edison, Chasseneuil-du-Poitou, , 86360
SUMMARY;LANGUAGE=en-us:La langue des signes française - 2e séance / 5
BEGIN:VALARM
TRIGGER:-PT1440M
ACTION:DISPLAY
DESCRIPTION:Reminder
END:VALARM
END:VEVENT
END:VCALENDAR
