BEGIN:VCALENDAR
BEGIN:VEVENT
CLASS:PUBLIC
CREATED:20260420T003911
DESCRIPTION:Parler avec un mot et un signe

Réf IPERIA : MIPMS2019

Durée : 21 heures

Dates :

 	vendredi 13 septembre 2019
 	vendredi 20 septembre 2019
 	vendredi 11 octobre 2019

Horaires : 9h-12h et 13h-17h

Référent de la formation : Aurélian Bellou-Bousselaire - responsable pédagogique : 05 46 55 14 70

Programme de la formation : Parler avec un mot et un signe

Cette formation vous intéresse et vous voulez nous contacter :

Utilisez notre fiche contact

Vous êtes assistant(e) maternel(le) et vous voulez vous inscrire à cette formation :

Bulletin d\'inscription IPERIA
DTEND:20190920T170000
DTSTAMP:20260420T003911
DTSTART:20190920T090000
LAST-MODIFIED:20091109T101015Z
LOCATION:Espace couleurs, 42 place de la libération, Vouneuil sur Vienne, , 86210
SUMMARY;LANGUAGE=en-us:Stage - Parler avec un mot et un signe - MIPMS2019- 2e séance / 3
BEGIN:VALARM
TRIGGER:-PT1440M
ACTION:DISPLAY
DESCRIPTION:Reminder
END:VALARM
END:VEVENT
END:VCALENDAR
