BEGIN:VCALENDAR
BEGIN:VEVENT
CLASS:PUBLIC
CREATED:20260422T164302
DESCRIPTION:S\'occuper d\'un enfant en situation de handicap

Réf IPERIA : MIEH2018

Durée : 21 heures

Dates :

 	samedi 06 avril 2019
 	samedi 18 mai 2019
 	samedi 25 mai 2019

Horaires : 9h-12 13h-17h

Référent de la formation : Denis Pennec - 05 46 55 14 70

Programme de la formation : IPERIA - MIEH2018

Ce stage animé par Claire Pironnet - référente handicap dans la Vienne

Cette formation vous intéresse et vous voulez nous contacter :

Utilisez notre fiche contact

Vous êtes assistant(e) maternel(le) et vous voulez vous inscrire à cette formation :

Bulletin d\'inscription IPERIA
DTEND:20190525T170000
DTSTAMP:20260422T164302
DTSTART:20190525T090000
LAST-MODIFIED:20091109T101015Z
LOCATION:IBIS Futuroscope, 2 Avenue Thomas Edison 86360 Chasseneuil-du-Poitou, Chasseneuil-du-Poitou, , 86360
SUMMARY;LANGUAGE=en-us:S'occuper d'un enfant en situation de handicap-3e séance / 3
BEGIN:VALARM
TRIGGER:-PT1440M
ACTION:DISPLAY
DESCRIPTION:Reminder
END:VALARM
END:VEVENT
END:VCALENDAR
