BEGIN:VCALENDAR
BEGIN:VEVENT
CLASS:PUBLIC
CREATED:20260422T182456
DESCRIPTION:Préparation du certificat « sauveteur secouriste du travail » (SST) dans le cadre de la prise en charge d’enfant

Réf IPERIA : MISST2018

Durée : 14 heures

Date :

 	mardi 02 avril 2019
 	mardi 09 avril 2019

Programme de la formation initiale : IPERIA - MISST2018

Cette formation vous intéresse et vous voulez nous contacter :

Utilisez notre fiche contact

Vous êtes assistant(e) maternel(le) et vous voulez vous inscrire à cette formation :

Bulletin d\'inscription IPERIA
DTEND:20190402T170000
DTSTAMP:20260422T182456
DTSTART:20190402T090000
LAST-MODIFIED:20091109T101015Z
LOCATION:RAM Chat Perché, Place du chanoine Billard, La Villedieu du Clain, , 86340
SUMMARY;LANGUAGE=en-us:Stage « sauveteur secouriste du travail » (SST)
BEGIN:VALARM
TRIGGER:-PT1440M
ACTION:DISPLAY
DESCRIPTION:Reminder
END:VALARM
END:VEVENT
END:VCALENDAR
