BEGIN:VCALENDAR
BEGIN:VEVENT
CLASS:PUBLIC
CREATED:20260422T164236
DESCRIPTION:Organisation et aménagement de l\'espace professionnel

Réf IPERIA : MIOAP2018

Durée : 21 heures

Date :

 	samedi 06 avril 2019
 	samedi 18 mai 2019
 	samedi 25 mai 2019

Programme de la formation :

Cette formation vous intéresse et vous voulez nous contacter :

Utilisez notre fiche contact

Vous êtes assistant(e) maternel(le) et vous voulez vous inscrire à cette formation :

Bulletin d\'inscription IPERIA

Lieu de formation : Espace Sylvan

Référent de la formation : Aurélian Bellou-Bousselaire : 05  46 55 14 70
DTEND:20190525T170000
DTSTAMP:20260422T164236
DTSTART:20190525T090000
LAST-MODIFIED:20091109T101015Z
LOCATION:Espace Sylvan, 60 Rue Albert 1er, La Rochelle, , 17000
SUMMARY;LANGUAGE=en-us:Stage - Organisation et aménagement de l'espace professionnel-3e séance / 3
BEGIN:VALARM
TRIGGER:-PT1440M
ACTION:DISPLAY
DESCRIPTION:Reminder
END:VALARM
END:VEVENT
END:VCALENDAR
