BEGIN:VCALENDAR
BEGIN:VEVENT
CLASS:PUBLIC
CREATED:20260422T182635
DESCRIPTION:Eveil musical - Interculturalité et créativité musicale

Réf IPERIA : MIEMP2018

Durée : 14 heures

Date :

 	samedi 02 mars 2019
 	samedi 30 mars 2019

Programme de la formation : IPERIA - MIEMP2018

Cette formation vous intéresse et vous voulez nous contacter :

Utilisez notre fiche contact

Vous êtes assistant(e) maternel(le) et vous voulez vous inscrire à cette formation :

Bulletin d\'inscription IPERIA

Ce stage est organisé avec les RAM de Royan (Elisa Bulteau)
DTEND:20190330T170000
DTSTAMP:20260422T182635
DTSTART:20190330T090000
LAST-MODIFIED:20091109T101015Z
LOCATION:Relai Accueil Petite Enfance, 4 rue Pitorie, Royan, , 17200
SUMMARY;LANGUAGE=en-us:Stage - Eveil musical - Interculturalité et créativité musicale-2e séance / 2
BEGIN:VALARM
TRIGGER:-PT1440M
ACTION:DISPLAY
DESCRIPTION:Reminder
END:VALARM
END:VEVENT
END:VCALENDAR
