BEGIN:VCALENDAR
BEGIN:VEVENT
CLASS:PUBLIC
CREATED:20260420T004352
DESCRIPTION:\"Comprendre pour mieux accompagner les nouvelles connaissances sur le développement du cerveau\"

Réf IPERIA : MICDC19

Durée : 14 heures

Dates :

 	samedi 28 septembre 2019
 	samedi 12 octobre 2019

Horaires : 9h-12h et 13h-17h

Référent de la formation : Denis PENNEC : 05 46 55 14 70

Vous êtes assistant(e) maternel(le) et vous voulez vous inscrire à  cette formation :

Bulletin d\'inscription IPERIA

Programme de la formation : en cours de rédaction par le formateur du stage : Aurélian Bellou-Bousselaire

Cette formation vous intéresse et vous voulez nous contacter :

Utilisez notre fiche contact
DTEND:20190928T170000
DTSTAMP:20260420T004352
DTSTART:20190928T090000
LAST-MODIFIED:20091109T101015Z
LOCATION:Hôtel IBIS Beaulie, Rue du Bois Dousset, Poitiers, , 86000
SUMMARY;LANGUAGE=en-us:Comprendre pour mieux accompagner les nouvelles connaissances sur le développement du cerveau
BEGIN:VALARM
TRIGGER:-PT1440M
ACTION:DISPLAY
DESCRIPTION:Reminder
END:VALARM
END:VEVENT
END:VCALENDAR
