BEGIN:VCALENDAR
BEGIN:VEVENT
CLASS:PUBLIC
CREATED:20260422T184040
DESCRIPTION:Activités ludiques et éveil sensoriel

Réf IPERIA : MIALES2018

Durée : 14 heures

Dates :

 	samedi 23 mars 2018
 	samedi 30 mars 2018

Horaires : 9h-12h et 13h-17h

Référent de la formation : Aurélian Bellou-Bousselaire - responsable pédagogique : 05 46 55 14 70

Programme de la formation : IPERIA - MIALES2018

Cette formation vous intéresse et vous voulez nous contacter :

Utilisez notre fiche contact

Vous êtes assistant(e) maternel(le) et vous voulez vous inscrire à cette formation :

Bulletin d\'inscription IPERIA

Ce stage est animé par Bruno Benoist : Site de Bruno Benoist
DTEND:20190330T170000
DTSTAMP:20260422T184040
DTSTART:20190330T090000
LAST-MODIFIED:20091109T101015Z
LOCATION:Hôtel Champlain, 30 Rue Rambaud, La Rochelle, , 17000
SUMMARY;LANGUAGE=en-us:Stage - Activités ludiques et éveil sensoriel-MIALES2018 - 2e séance / 2
BEGIN:VALARM
TRIGGER:-PT1440M
ACTION:DISPLAY
DESCRIPTION:Reminder
END:VALARM
END:VEVENT
END:VCALENDAR
