BEGIN:VCALENDAR
BEGIN:VEVENT
CLASS:PUBLIC
CREATED:20260422T202253
DESCRIPTION:Construire son livret d\'accueil

Réf IPERIA : AMLA2018

Durée : 14 heures

Dates :

 	samedi 02 février 2018
 	samedi 09 mars 2018

Horaires : 9h-12h et 13h-17h

Référent de la formation : Aurélian Bellou-Bousselaire - responsable pédagogique : 05 46 55 14 70

Programme de la formation : IPERIA - AMLA2018

Cette formation vous intéresse et vous voulez nous contacter :

Utilisez notre fiche contact

Vous êtes assistant(e) maternel(le) et vous voulez vous inscrire à cette formation :

Bulletin d\'inscription IPERIA
DTEND:20190202T170000
DTSTAMP:20260422T202253
DTSTART:20190202T090000
LAST-MODIFIED:20091109T101015Z
LOCATION:Espace Sylvan, 60 Rue Albert 1er, La Rochelle, , 17000
SUMMARY;LANGUAGE=en-us:Construire son livret d'accueil - AMLA2018- 1e séance / 2
BEGIN:VALARM
TRIGGER:-PT1440M
ACTION:DISPLAY
DESCRIPTION:Reminder
END:VALARM
END:VEVENT
END:VCALENDAR
