BEGIN:VCALENDAR
BEGIN:VEVENT
CLASS:PUBLIC
CREATED:20260422T202346
DESCRIPTION: 

Préparation du recyclage du \"sauveteur secouriste du travail\" (SST)

Réf IPERIA : MIRSST2018

Durée : 7 heures

Date :

 	samedi 12 janvier 2019

Programme de la formation initiale : IPERIA - MISST2018

Cette formation vous intéresse et vous voulez nous contacter :

Utilisez notre fiche contact

Vous êtes assistant(e) maternel(le) et vous voulez vous inscrire à cette formation :

Bulletin d\'inscription IPERIA
DTEND:20190112T170000
DTSTAMP:20260422T202346
DTSTART:20190112T090000
LAST-MODIFIED:20091109T101015Z
LOCATION:RAM, 13 Rue de l'Eglise, Vouneuil sous Biard, , 86580
SUMMARY;LANGUAGE=en-us:Stage - Recyclage - SST
BEGIN:VALARM
TRIGGER:-PT1440M
ACTION:DISPLAY
DESCRIPTION:Reminder
END:VALARM
END:VEVENT
END:VCALENDAR
