BEGIN:VCALENDAR
BEGIN:VEVENT
CLASS:PUBLIC
CREATED:20260422T202218
DESCRIPTION:Gestion du stress et relaxation

Réf IPERIA : MISR2018

Durée : 14 heures

Dates :

 	samedi 12 janvier 2019
 	samedi 19 janvier 2019

Horaires : 9h-12h et 13h-17h

Référent de la formation : Aurélian Bellou-Bousselaire - responsable pédagogique : 05 46 55 14 70

Programme de la formation : IPERIA - MISR2018

Cette formation vous intéresse et vous voulez nous contacter :

Utilisez notre fiche contact

Vous êtes assistant(e) maternel(le) et vous voulez vous inscrire à cette formation :

Bulletin d\'inscription IPERIA
DTEND:20190119T170000
DTSTAMP:20260422T202218
DTSTART:20190119T090000
LAST-MODIFIED:20091109T101015Z
LOCATION:Salle de formation - Hôtel La Fabrique, 9 Rue de la Fabrique, LA Rochelle, , 17000
SUMMARY;LANGUAGE=en-us:Stage - Gestion du stress et relaxation - MISR2018- 2e séance / 2
BEGIN:VALARM
TRIGGER:-PT1440M
ACTION:DISPLAY
DESCRIPTION:Reminder
END:VALARM
END:VEVENT
END:VCALENDAR
