BEGIN:VCALENDAR
BEGIN:VEVENT
CLASS:PUBLIC
CREATED:20260422T221532
DESCRIPTION:Favoriser la bientraitance envers les enfants

Réf IPERIA : MIBE2018

Durée : 21 heures

Dates :

 	samedi 17 novembre 2018
 	samedi 24 novembre 2018
 	samedi 08 décembre 2018

Horaires : 9h-12h13h-17h

Lieu de formation : Hôtel Champlain - 30 Rue Rambaud -17000 La Rochelle

Programme de la formation : Favoriser la bientraitance envers les enfants

Cette formation vous intéresse et vous voulez nous contacter :

Utilisez notre fiche contact

Vous êtes assistant(e) maternel(le) et vous voulez vous inscrire à cette formation :

Bulletin d\'inscription IPERIA

Ce stage sera animé par Stéphanie Albert
DTEND:20181124T170000
DTSTAMP:20260422T221532
DTSTART:20181124T090000
LAST-MODIFIED:20091109T101015Z
LOCATION:Hôtel Champlain, 30 Rue Rambaud, La Rochelle, , 17000
SUMMARY;LANGUAGE=en-us:Favoriser la bientraitance envers les enfants MIBE2018 - 2e séance /3
BEGIN:VALARM
TRIGGER:-PT1440M
ACTION:DISPLAY
DESCRIPTION:Reminder
END:VALARM
END:VEVENT
END:VCALENDAR
